BEGIN:VCALENDAR
VERSION:2.0
PRODID:-//Tukios.com/
BEGIN:VEVENT
UID:d289498e-8d73-4dfa-aa7c-4d9118a5d2de@www.hykefuneralhome.com
DTSTAMP:20260425T103748Z
DTSTART:20260428T170000Z
DTEND:20260428T190000Z
SUMMARY:Visitation
DESCRIPTION:
URL:https://www.hykefuneralhome.com/obituaries/jerry-brand
LOCATION:Redfield - Redfield Methodist Church 1326 West 1st Street  
	Redfield SD 57469
GEO:44.8676737;-98.5205197
END:VEVENT
END:VCALENDAR