BEGIN:VCALENDAR
VERSION:2.0
PRODID:-//Tukios.com/
BEGIN:VEVENT
UID:3b60a3f6-cd92-4cd0-9b08-b66f8228ca33@www.hykefuneralhome.com
DTSTAMP:20260425T104456Z
DTSTART:20260428T190000Z
DTEND:20260428T200000Z
SUMMARY:Funeral Service
DESCRIPTION:
URL:https://www.hykefuneralhome.com/obituaries/jerry-brand
LOCATION:Redfield - Redfield Methodist Church 1326 West 1st Street  
	Redfield SD 57469
GEO:44.8676737;-98.5205197
END:VEVENT
END:VCALENDAR