BEGIN:VCALENDAR
VERSION:2.0
PRODID:-//Tukios.com/
BEGIN:VEVENT
UID:5bd6f339-e6c6-41fd-96e9-d35e8a0db258@www.hykefuneralhome.com
DTSTAMP:20260425T103748Z
DTSTART:20260428
SUMMARY:Inurnment with Military Honors
DESCRIPTION:
URL:https://www.hykefuneralhome.com/obituaries/jerry-brand
LOCATION: Highway 281  Redfield SD 
GEO:44.8672528;-98.5235699
END:VEVENT
END:VCALENDAR