BEGIN:VCALENDAR
VERSION:2.0
PRODID:-//Tukios.com/
BEGIN:VEVENT
UID:239589df-a441-443b-982c-b2a9dd5dcd5c@www.hykefuneralhome.com
DTSTAMP:20260425T104742Z
DTSTART:20260428
SUMMARY:Lunch and Fellowship following Military Honors
DESCRIPTION:
URL:https://www.hykefuneralhome.com/obituaries/jerry-brand
LOCATION: 1326 West 1st Street  Redfield SD 57469
GEO:44.8676737;-98.5205197
END:VEVENT
END:VCALENDAR